BEGIN:VCALENDAR
VERSION:2.0
PRODID:-//Villers-Ecalles commune de Seine-Maritime - ECPv6.15.20//NONSGML v1.0//EN
CALSCALE:GREGORIAN
METHOD:PUBLISH
X-ORIGINAL-URL:https://www.villers-ecalles.fr
X-WR-CALDESC:Évènements pour Villers-Ecalles commune de Seine-Maritime
REFRESH-INTERVAL;VALUE=DURATION:PT1H
X-Robots-Tag:noindex
X-PUBLISHED-TTL:PT1H
BEGIN:VTIMEZONE
TZID:Europe/Helsinki
BEGIN:DAYLIGHT
TZOFFSETFROM:+0200
TZOFFSETTO:+0300
TZNAME:EEST
DTSTART:20170326T010000
END:DAYLIGHT
BEGIN:STANDARD
TZOFFSETFROM:+0300
TZOFFSETTO:+0200
TZNAME:EET
DTSTART:20171029T010000
END:STANDARD
BEGIN:DAYLIGHT
TZOFFSETFROM:+0200
TZOFFSETTO:+0300
TZNAME:EEST
DTSTART:20180325T010000
END:DAYLIGHT
BEGIN:STANDARD
TZOFFSETFROM:+0300
TZOFFSETTO:+0200
TZNAME:EET
DTSTART:20181028T010000
END:STANDARD
BEGIN:DAYLIGHT
TZOFFSETFROM:+0200
TZOFFSETTO:+0300
TZNAME:EEST
DTSTART:20190331T010000
END:DAYLIGHT
BEGIN:STANDARD
TZOFFSETFROM:+0300
TZOFFSETTO:+0200
TZNAME:EET
DTSTART:20191027T010000
END:STANDARD
END:VTIMEZONE
BEGIN:VEVENT
DTSTART;TZID=Europe/Helsinki:20180318T150000
DTEND;TZID=Europe/Helsinki:20180318T170000
DTSTAMP:20260421T175111
CREATED:20180224T103518Z
LAST-MODIFIED:20180305T152548Z
UID:2069-1521385200-1521392400@www.villers-ecalles.fr
SUMMARY:Spectacle de Pâques
DESCRIPTION:Spectacle de Pâques le dimanche 18 mars à 15h Salle Raimbourg\, participation 3 euros pour les enfants de 3 à 12 ans. \nInscriptions au 06 03 52 28 40 ou v.granlin@villers-ecalles.fr \nPrésence d’un adulte obligatoire\, goûter à l’issue de la séance. \nSpectacle et goûter proposés par la commission Animation de Villers-Ecalles et l’association REVE. \naffiche Pâques 2018
URL:https://www.villers-ecalles.fr/event/spectacle-de-paques/
LOCATION:Salle André Raimbourg\, 2712 route de Duclair\, Villers-Ecalles\, 76360\, France
CATEGORIES:Manifestation associative,Manifestation communale
ORGANIZER;CN="Mairie de Villers-Ecalles":MAILTO:courrier@villers-ecalles.fr
END:VEVENT
BEGIN:VEVENT
DTSTART;VALUE=DATE:20180331
DTEND;VALUE=DATE:20180403
DTSTAMP:20260421T175111
CREATED:20180305T150631Z
LAST-MODIFIED:20180305T151810Z
UID:2076-1522454400-1522713599@www.villers-ecalles.fr
SUMMARY:Week-end solidaire pour le Laos samedi 31 mars\, dimanche 1er et lundi 2 avril de 9h à18h
DESCRIPTION:
URL:https://www.villers-ecalles.fr/event/week-end-solidaire-laos-samedi-31-mars-dimanche-1er-lundi-2-avril-de-9h-a18h/
LOCATION:Salle André Raimbourg\, 2712 route de Duclair\, Villers-Ecalles\, 76360\, France
CATEGORIES:Manifestation associative
END:VEVENT
END:VCALENDAR