BEGIN:VCALENDAR
VERSION:2.0
PRODID:-//Villers-Ecalles commune de Seine-Maritime - ECPv6.15.20//NONSGML v1.0//EN
CALSCALE:GREGORIAN
METHOD:PUBLISH
X-WR-CALNAME:Villers-Ecalles commune de Seine-Maritime
X-ORIGINAL-URL:https://www.villers-ecalles.fr
X-WR-CALDESC:Évènements pour Villers-Ecalles commune de Seine-Maritime
REFRESH-INTERVAL;VALUE=DURATION:PT1H
X-Robots-Tag:noindex
X-PUBLISHED-TTL:PT1H
BEGIN:VTIMEZONE
TZID:Europe/Helsinki
BEGIN:DAYLIGHT
TZOFFSETFROM:+0200
TZOFFSETTO:+0300
TZNAME:EEST
DTSTART:20170326T010000
END:DAYLIGHT
BEGIN:STANDARD
TZOFFSETFROM:+0300
TZOFFSETTO:+0200
TZNAME:EET
DTSTART:20171029T010000
END:STANDARD
BEGIN:DAYLIGHT
TZOFFSETFROM:+0200
TZOFFSETTO:+0300
TZNAME:EEST
DTSTART:20180325T010000
END:DAYLIGHT
BEGIN:STANDARD
TZOFFSETFROM:+0300
TZOFFSETTO:+0200
TZNAME:EET
DTSTART:20181028T010000
END:STANDARD
BEGIN:DAYLIGHT
TZOFFSETFROM:+0200
TZOFFSETTO:+0300
TZNAME:EEST
DTSTART:20190331T010000
END:DAYLIGHT
BEGIN:STANDARD
TZOFFSETFROM:+0300
TZOFFSETTO:+0200
TZNAME:EET
DTSTART:20191027T010000
END:STANDARD
END:VTIMEZONE
BEGIN:VEVENT
DTSTART;VALUE=DATE:20180215
DTEND;VALUE=DATE:20180216
DTSTAMP:20260421T185416
CREATED:20180208T231700Z
LAST-MODIFIED:20180208T232141Z
UID:2044-1518652800-1518739199@www.villers-ecalles.fr
SUMMARY:CONSEIL MUNICIPAL
DESCRIPTION:Le Conseil Municipal se réunira en séance ordinaire le jeudi 15 février à 18h30 à la mairie. \nL’ordre du jour est ici.
URL:https://www.villers-ecalles.fr/event/conseil-municipal-7/
LOCATION:Mairie de Villers-Ecalles\, 815 rue Pasteur\, VILLERS-ECALLES\, 76360
CATEGORIES:Manifestation communale
ORGANIZER;CN="Mairie de Villers-Ecalles":MAILTO:courrier@villers-ecalles.fr
END:VEVENT
BEGIN:VEVENT
DTSTART;VALUE=DATE:20180216
DTEND;VALUE=DATE:20180217
DTSTAMP:20260421T185416
CREATED:20180208T231348Z
LAST-MODIFIED:20180208T231348Z
UID:2042-1518739200-1518825599@www.villers-ecalles.fr
SUMMARY:DON DE SANG BARENTIN
DESCRIPTION:DON DE SANG\nBARENTIN\nVendredi 16 février\nDe 10h30 à 13h30 et de 15h30 à 19h30\nSalle Léo Lagrange
URL:https://www.villers-ecalles.fr/event/don-de-sang-barentin/
LOCATION:salle Léo Lagrange\, 1 Rue Madeleine Vernet\, BARENTIN\, 76360\, France
CATEGORIES:Manifestation associative
END:VEVENT
END:VCALENDAR