BEGIN:VCALENDAR
VERSION:2.0
PRODID:-//Villers-Ecalles commune de Seine-Maritime - ECPv6.15.20//NONSGML v1.0//EN
CALSCALE:GREGORIAN
METHOD:PUBLISH
X-ORIGINAL-URL:https://www.villers-ecalles.fr
X-WR-CALDESC:Évènements pour Villers-Ecalles commune de Seine-Maritime
REFRESH-INTERVAL;VALUE=DURATION:PT1H
X-Robots-Tag:noindex
X-PUBLISHED-TTL:PT1H
BEGIN:VTIMEZONE
TZID:Europe/Helsinki
BEGIN:DAYLIGHT
TZOFFSETFROM:+0200
TZOFFSETTO:+0300
TZNAME:EEST
DTSTART:20160327T010000
END:DAYLIGHT
BEGIN:STANDARD
TZOFFSETFROM:+0300
TZOFFSETTO:+0200
TZNAME:EET
DTSTART:20161030T010000
END:STANDARD
BEGIN:DAYLIGHT
TZOFFSETFROM:+0200
TZOFFSETTO:+0300
TZNAME:EEST
DTSTART:20170326T010000
END:DAYLIGHT
BEGIN:STANDARD
TZOFFSETFROM:+0300
TZOFFSETTO:+0200
TZNAME:EET
DTSTART:20171029T010000
END:STANDARD
BEGIN:DAYLIGHT
TZOFFSETFROM:+0200
TZOFFSETTO:+0300
TZNAME:EEST
DTSTART:20180325T010000
END:DAYLIGHT
BEGIN:STANDARD
TZOFFSETFROM:+0300
TZOFFSETTO:+0200
TZNAME:EET
DTSTART:20181028T010000
END:STANDARD
END:VTIMEZONE
BEGIN:VEVENT
DTSTART;TZID=Europe/Helsinki:20171202T160000
DTEND;TZID=Europe/Helsinki:20171202T190000
DTSTAMP:20260423T121854
CREATED:20171122T102209Z
LAST-MODIFIED:20171122T102209Z
UID:1969-1512230400-1512241200@www.villers-ecalles.fr
SUMMARY:Illumination du sapin
DESCRIPTION:Le samedi 2 décembre à partir de 16h\, illumination du sapin de la commune à l’école Freinet Prévost. En présence du père Noël. \nDéco rouge et or. \nTours de calèche et goûter sur place. \n  \n 
URL:https://www.villers-ecalles.fr/event/illumination-du-sapin/
LOCATION:Ecole Prevost-Freinet\, 2529 Route de Duclair\, Villers-Ecalles\, 76360\, France
CATEGORIES:Manifestation communale
ATTACH;FMTTYPE=image/jpeg:https://www.villers-ecalles.fr/wp-content/uploads/2017/11/illuminationSapin.jpg
END:VEVENT
BEGIN:VEVENT
DTSTART;VALUE=DATE:20171211
DTEND;VALUE=DATE:20171212
DTSTAMP:20260423T121854
CREATED:20171205T134109Z
LAST-MODIFIED:20171205T134109Z
UID:1979-1512950400-1513036799@www.villers-ecalles.fr
SUMMARY:Conseil Municipal
DESCRIPTION:Le Conseil Municipal se réunira en séance publique lundi 11 décembre à 18h30 à la mairie. L’ordre du jour est ici!
URL:https://www.villers-ecalles.fr/event/conseil-municipal-5/
LOCATION:Mairie de Villers-Ecalles\, 815 rue Pasteur\, VILLERS-ECALLES\, 76360
ORGANIZER;CN="Mairie de Villers-Ecalles":MAILTO:courrier@villers-ecalles.fr
END:VEVENT
BEGIN:VEVENT
DTSTART;TZID=Europe/Helsinki:20171217T080000
DTEND;TZID=Europe/Helsinki:20171217T170000
DTSTAMP:20260423T121854
CREATED:20171122T103251Z
LAST-MODIFIED:20171123T220901Z
UID:1972-1513497600-1513530000@www.villers-ecalles.fr
SUMMARY:Foire à tout de Noël
DESCRIPTION:Votre radio Horizon organise le dimanche 17 décembre une foire à tout dans la salle André Raimbourg de Villers-Ecalles. \n\nTarif visiteur gratuit. \nVisite exceptionnelle du père Noël . Distribution de friandises aux enfants sages. \nBuvette sur place\, crêpes\, sandwich\, boissons… \nLe dossier d’inscription est disponible en téléchargement en cliquant ici. \nLes inscriptions se feront le vendredi 8 décembre de 10h à 17h au studio de Pavilly (situé à coté de la mairie) \nVous pouvez effectuer votre inscription en ligne en remplissant le formulaire depuis le site internet de la radio : https://www.horizon-fm.fr/event/foire-a-tout-17-12/
URL:https://www.villers-ecalles.fr/event/foire-a-de-noel/
LOCATION:Salle André Raimbourg\, 2712 route de Duclair\, Villers-Ecalles\, 76360\, France
CATEGORIES:Manifestation associative
ATTACH;FMTTYPE=image/jpeg:https://www.villers-ecalles.fr/wp-content/uploads/2015/06/foireatout.jpg
END:VEVENT
BEGIN:VEVENT
DTSTART;VALUE=DATE:20171222
DTEND;VALUE=DATE:20171223
DTSTAMP:20260423T121854
CREATED:20171213T102641Z
LAST-MODIFIED:20171213T102641Z
UID:1989-1513900800-1513987199@www.villers-ecalles.fr
SUMMARY:COLLECTE DE SANG
DESCRIPTION:BARENTIN\nSalle Polyvalente Léo Lagrange\nVendredi 22 décembre\nDe 10h30 à 13h30 et de 15h30 à 19h30
URL:https://www.villers-ecalles.fr/event/collecte-de-sang/
LOCATION:salle Léo Lagrange\, 1 Rue Madeleine Vernet\, BARENTIN\, 76360\, France
ATTACH;FMTTYPE=image/jpeg:https://www.villers-ecalles.fr/wp-content/uploads/2017/12/EFS_POSTS2017_NOEL.jpg
END:VEVENT
BEGIN:VEVENT
DTSTART;VALUE=DATE:20171228
DTEND;VALUE=DATE:20171229
DTSTAMP:20260423T121854
CREATED:20171222T233753Z
LAST-MODIFIED:20171222T233753Z
UID:1994-1514419200-1514505599@www.villers-ecalles.fr
SUMMARY:CONSEIL MUNICIPAL
DESCRIPTION:Le Conseil municipal se réunira le jeudi 28 décembre à 18h30 en mairie. \nL’ordre du jour est ici! \n 
URL:https://www.villers-ecalles.fr/event/conseil-municipal-6/
LOCATION:Mairie de Villers-Ecalles\, 815 rue Pasteur\, VILLERS-ECALLES\, 76360
ORGANIZER;CN="Mairie de Villers-Ecalles":MAILTO:courrier@villers-ecalles.fr
END:VEVENT
END:VCALENDAR