BEGIN:VCALENDAR
VERSION:2.0
PRODID:-//Villers-Ecalles commune de Seine-Maritime - ECPv6.15.20//NONSGML v1.0//EN
CALSCALE:GREGORIAN
METHOD:PUBLISH
X-ORIGINAL-URL:https://www.villers-ecalles.fr
X-WR-CALDESC:Évènements pour Villers-Ecalles commune de Seine-Maritime
REFRESH-INTERVAL;VALUE=DURATION:PT1H
X-Robots-Tag:noindex
X-PUBLISHED-TTL:PT1H
BEGIN:VTIMEZONE
TZID:Europe/Helsinki
BEGIN:DAYLIGHT
TZOFFSETFROM:+0200
TZOFFSETTO:+0300
TZNAME:EEST
DTSTART:20160327T010000
END:DAYLIGHT
BEGIN:STANDARD
TZOFFSETFROM:+0300
TZOFFSETTO:+0200
TZNAME:EET
DTSTART:20161030T010000
END:STANDARD
BEGIN:DAYLIGHT
TZOFFSETFROM:+0200
TZOFFSETTO:+0300
TZNAME:EEST
DTSTART:20170326T010000
END:DAYLIGHT
BEGIN:STANDARD
TZOFFSETFROM:+0300
TZOFFSETTO:+0200
TZNAME:EET
DTSTART:20171029T010000
END:STANDARD
BEGIN:DAYLIGHT
TZOFFSETFROM:+0200
TZOFFSETTO:+0300
TZNAME:EEST
DTSTART:20180325T010000
END:DAYLIGHT
BEGIN:STANDARD
TZOFFSETFROM:+0300
TZOFFSETTO:+0200
TZNAME:EET
DTSTART:20181028T010000
END:STANDARD
END:VTIMEZONE
BEGIN:VEVENT
DTSTART;TZID=Europe/Helsinki:20170930T100000
DTEND;TZID=Europe/Helsinki:20171001T170000
DTSTAMP:20260423T220650
CREATED:20170926T192455Z
LAST-MODIFIED:20170926T192821Z
UID:1916-1506765600-1506877200@www.villers-ecalles.fr
SUMMARY:Exposition de peinture et de sculpture
DESCRIPTION:Venez nous retrouver samedi 30 septembre de 10h à 18h30 et dimanche 1er octobre de 10h à 12h30 et de 14h30 à 17h\, salle Raimbourg\, place Jean Moulin. \nVernissage à 11h le samedi. \nAffiche exposition 2017
URL:https://www.villers-ecalles.fr/event/exposition-de-peinture-de-sculpture/
LOCATION:Salle André Raimbourg\, 2712 route de Duclair\, Villers-Ecalles\, 76360\, France
CATEGORIES:Manifestation communale
ORGANIZER;CN="Mairie de Villers-Ecalles":MAILTO:courrier@villers-ecalles.fr
END:VEVENT
BEGIN:VEVENT
DTSTART;TZID=Europe/Helsinki:20171007T080000
DTEND;TZID=Europe/Helsinki:20171010T220000
DTSTAMP:20260423T220650
CREATED:20170926T195059Z
LAST-MODIFIED:20170926T195318Z
UID:1924-1507363200-1507672800@www.villers-ecalles.fr
SUMMARY:Octobre Rose
DESCRIPTION:Le samedi 7 octobre\, rendez-vous sous le préau de la cantine à côté de la salle Raimbourg pour une marche ou un running. \nLe mardi 10 octobre\, ouverture des portes de la salle Raimbourg à 19h30 pour une représentation théâtrale sur le thème du dépistage du cancer du sein sur un ton humoristique\, suivi d’un café débat. \n2017 affiche bulletin d’inscription
URL:https://www.villers-ecalles.fr/event/octobre-rose-3/
LOCATION:Salle André Raimbourg\, 2712 route de Duclair\, Villers-Ecalles\, 76360\, France
CATEGORIES:Manifestation communale
ORGANIZER;CN="Mairie de Villers-Ecalles":MAILTO:courrier@villers-ecalles.fr
END:VEVENT
BEGIN:VEVENT
DTSTART;TZID=Europe/Helsinki:20171028T080000
DTEND;TZID=Europe/Helsinki:20171029T190000
DTSTAMP:20260423T220650
CREATED:20171008T220743Z
LAST-MODIFIED:20171011T083611Z
UID:1935-1509177600-1509303600@www.villers-ecalles.fr
SUMMARY:Week-end Solidaire pour le Laos
DESCRIPTION:Venez nous retrouver salle Raimbourg le samedi 28 et dimanche 29 octobre pour un week-end solidaire pour le Laos. \nCliquez sur le lien ci-dessous\, pour plus d’informations. \nlaos
URL:https://www.villers-ecalles.fr/event/week-end-solidaire-laos/
LOCATION:Salle André Raimbourg\, 2712 route de Duclair\, Villers-Ecalles\, 76360\, France
CATEGORIES:Manifestation associative
END:VEVENT
END:VCALENDAR