BEGIN:VCALENDAR
VERSION:2.0
PRODID:-//Villers-Ecalles commune de Seine-Maritime - ECPv6.15.20//NONSGML v1.0//EN
CALSCALE:GREGORIAN
METHOD:PUBLISH
X-ORIGINAL-URL:https://www.villers-ecalles.fr
X-WR-CALDESC:Évènements pour Villers-Ecalles commune de Seine-Maritime
REFRESH-INTERVAL;VALUE=DURATION:PT1H
X-Robots-Tag:noindex
X-PUBLISHED-TTL:PT1H
BEGIN:VTIMEZONE
TZID:Europe/Helsinki
BEGIN:DAYLIGHT
TZOFFSETFROM:+0200
TZOFFSETTO:+0300
TZNAME:EEST
DTSTART:20160327T010000
END:DAYLIGHT
BEGIN:STANDARD
TZOFFSETFROM:+0300
TZOFFSETTO:+0200
TZNAME:EET
DTSTART:20161030T010000
END:STANDARD
BEGIN:DAYLIGHT
TZOFFSETFROM:+0200
TZOFFSETTO:+0300
TZNAME:EEST
DTSTART:20170326T010000
END:DAYLIGHT
BEGIN:STANDARD
TZOFFSETFROM:+0300
TZOFFSETTO:+0200
TZNAME:EET
DTSTART:20171029T010000
END:STANDARD
BEGIN:DAYLIGHT
TZOFFSETFROM:+0200
TZOFFSETTO:+0300
TZNAME:EEST
DTSTART:20180325T010000
END:DAYLIGHT
BEGIN:STANDARD
TZOFFSETFROM:+0300
TZOFFSETTO:+0200
TZNAME:EET
DTSTART:20181028T010000
END:STANDARD
END:VTIMEZONE
BEGIN:VEVENT
DTSTART;VALUE=DATE:20170601
DTEND;VALUE=DATE:20170602
DTSTAMP:20260424T014519
CREATED:20170523T105759Z
LAST-MODIFIED:20170523T105759Z
UID:1822-1496275200-1496361599@www.villers-ecalles.fr
SUMMARY:CONSEIL MUNICIPAL
DESCRIPTION:Le Conseil Municipal se réunira en séance ordinaire le jeudi 1er juin à 18h30 en mairie. \nL’ordre du jour ici!
URL:https://www.villers-ecalles.fr/event/conseil-municipal-4/
LOCATION:Mairie de Villers-Ecalles\, 815 rue Pasteur\, VILLERS-ECALLES\, 76360
CATEGORIES:Manifestation communale
ORGANIZER;CN="Mairie de Villers-Ecalles":MAILTO:courrier@villers-ecalles.fr
END:VEVENT
BEGIN:VEVENT
DTSTART;TZID=Europe/Helsinki:20170604T000000
DTEND;TZID=Europe/Helsinki:20170609T000000
DTSTAMP:20260424T014519
CREATED:20170511T191627Z
LAST-MODIFIED:20170511T192224Z
UID:1796-1496534400-1496966400@www.villers-ecalles.fr
SUMMARY:FOIRE A TOUT du FCVE: inscriptions
DESCRIPTION:Les inscriptions à la foire à tout se dérouleront au stade municipal\nLe dimanche 4 juin de 10h à Midi\nLe mercredi 7 juin de 15h à 19h\nLe vendredi 9 juin de 17h à 19h \nLes modalités ici!
URL:https://www.villers-ecalles.fr/event/foire-a-fcve-inscriptions/
LOCATION:Stade Villers-Ecalles\, 250 rue Gadeau de Kerville\, Villers-Ecalles\, 76360\, France
END:VEVENT
BEGIN:VEVENT
DTSTART;TZID=Europe/Helsinki:20170610T134500
DTEND;TZID=Europe/Helsinki:20170610T181500
DTSTAMP:20260424T014519
CREATED:20170523T071112Z
LAST-MODIFIED:20170523T071112Z
UID:1814-1497102300-1497118500@www.villers-ecalles.fr
SUMMARY:Sortie Accrobranches samedi 10 juin
DESCRIPTION:Une sortie accrobranches est organisée par la commission Animation\, il reste encore des places pour les enfants de 10 à 16 ans\, tarif 12 euros\, départ 13h45 en car de l’arrêt de bus de l’école\, retour prévu à 18h15 au même endroit. 2H30 de dépaysement et sensations légères ou fortes suivi d’un goûter tous ensemble à l’Espace Aventure de St Martin de Boscherville. Vous pouvez me contacter au 06 03 52 28 40 ou par mail à v.granlin@villers-ecalles.fr. Valérie Granlin
URL:https://www.villers-ecalles.fr/event/sortie-accrobranches-samedi-10-juin/
LOCATION:Ecole Prevost-Freinet\, 2529 Route de Duclair\, Villers-Ecalles\, 76360\, France
CATEGORIES:Manifestation communale
ATTACH;FMTTYPE=image/jpeg:https://www.villers-ecalles.fr/wp-content/uploads/2017/05/Accrobranche2.jpg
ORGANIZER;CN="Mairie de Villers-Ecalles":MAILTO:courrier@villers-ecalles.fr
END:VEVENT
BEGIN:VEVENT
DTSTART;VALUE=DATE:20170611
DTEND;VALUE=DATE:20170612
DTSTAMP:20260424T014519
CREATED:20170511T192018Z
LAST-MODIFIED:20170511T192018Z
UID:1800-1497139200-1497225599@www.villers-ecalles.fr
SUMMARY:FOIRE A TOUT DU FCVE
DESCRIPTION:Le FCVE organise sa foire à tout annuelle ouverte à tous (sauf alimentaire) à partir de 8h au stade municipal. \nRestauration sur place\, emplacement 3 € le mètre\, visiteurs entrée gratuite. Pour tous renseignements (le soir): Georges 02 35 92 00 92 ou Albert 02 35 92 01 65.
URL:https://www.villers-ecalles.fr/event/foire-a-fcve/
LOCATION:Stade Villers-Ecalles\, 250 rue Gadeau de Kerville\, Villers-Ecalles\, 76360\, France
CATEGORIES:Manifestation associative
END:VEVENT
BEGIN:VEVENT
DTSTART;VALUE=DATE:20170621
DTEND;VALUE=DATE:20170622
DTSTAMP:20260424T014519
CREATED:20170608T160754Z
LAST-MODIFIED:20170608T160754Z
UID:1838-1498003200-1498089599@www.villers-ecalles.fr
SUMMARY:RYTHMES SCOLAIRES: Consultation des parents d'élèves
DESCRIPTION:Le Conseil municipal consulte les parents d’élèves sur le retour à la semaine de 4 jours. Date limite mercredi 21 juin 12h.
URL:https://www.villers-ecalles.fr/event/rythmes-scolaires-consultation-parents-deleves/
ORGANIZER;CN="Mairie de Villers-Ecalles":MAILTO:courrier@villers-ecalles.fr
END:VEVENT
BEGIN:VEVENT
DTSTART;TZID=Europe/Helsinki:20170624T190000
DTEND;TZID=Europe/Helsinki:20170625T020000
DTSTAMP:20260424T014519
CREATED:20170523T072219Z
LAST-MODIFIED:20170523T072246Z
UID:1818-1498330800-1498356000@www.villers-ecalles.fr
SUMMARY:Feu de la St Jean
DESCRIPTION:Le feu de la St Jean aura lieu le samedi 24 juin 2017 à partir de 19H sur l’esplanade située derrière le Mairie. N’oubliez pas de réserver votre table avec le coupon distribué dans votre journal municipal. Vous trouverez également ce document dans votre nouvelle mairie. \nVenez nombreux faire la fête avec nous. \nValérie Granlin \n06 03 52 28 40 ou v.granlin@villers-ecalles.fr \naffiche 1 coupon réponse verso 2017
URL:https://www.villers-ecalles.fr/event/feu-de-st-jean/
LOCATION:Mairie de Villers-Ecalles\, 815 rue Pasteur\, VILLERS-ECALLES\, 76360
CATEGORIES:Manifestation communale
ATTACH;FMTTYPE=image/jpeg:https://www.villers-ecalles.fr/wp-content/uploads/2017/05/20150627_230627-e1716560352768.jpg
ORGANIZER;CN="Mairie de Villers-Ecalles":MAILTO:courrier@villers-ecalles.fr
END:VEVENT
BEGIN:VEVENT
DTSTART;VALUE=DATE:20170625
DTEND;VALUE=DATE:20170626
DTSTAMP:20260424T014519
CREATED:20170602T215229Z
LAST-MODIFIED:20170602T215229Z
UID:1828-1498348800-1498435199@www.villers-ecalles.fr
SUMMARY:GALA de l'ACVE
DESCRIPTION:Le GALA de danse de l’ ACVE se déroulera le dimanche 25 juin 2017 à partir de 15 h 00 au théâtre Charles Dullin de Grand-Quevilly.\nLes places seront en vente le mardi 13 juin 2017 à partir de 18 h 00 à la salle Raimbourg de Villers-écalles.\nPour tout renseignement\, contacter Mme LANOS au 06 89 88 19 75
URL:https://www.villers-ecalles.fr/event/gala-de-lacve-2/
ORGANIZER;CN="A.C.V.E.":MAILTO:crystelle.lanos@sfr.fr
END:VEVENT
END:VCALENDAR