BEGIN:VCALENDAR
VERSION:2.0
PRODID:-//Villers-Ecalles commune de Seine-Maritime - ECPv6.15.20//NONSGML v1.0//EN
CALSCALE:GREGORIAN
METHOD:PUBLISH
X-ORIGINAL-URL:https://www.villers-ecalles.fr
X-WR-CALDESC:Évènements pour Villers-Ecalles commune de Seine-Maritime
REFRESH-INTERVAL;VALUE=DURATION:PT1H
X-Robots-Tag:noindex
X-PUBLISHED-TTL:PT1H
BEGIN:VTIMEZONE
TZID:Europe/Helsinki
BEGIN:DAYLIGHT
TZOFFSETFROM:+0200
TZOFFSETTO:+0300
TZNAME:EEST
DTSTART:20160327T010000
END:DAYLIGHT
BEGIN:STANDARD
TZOFFSETFROM:+0300
TZOFFSETTO:+0200
TZNAME:EET
DTSTART:20161030T010000
END:STANDARD
BEGIN:DAYLIGHT
TZOFFSETFROM:+0200
TZOFFSETTO:+0300
TZNAME:EEST
DTSTART:20170326T010000
END:DAYLIGHT
BEGIN:STANDARD
TZOFFSETFROM:+0300
TZOFFSETTO:+0200
TZNAME:EET
DTSTART:20171029T010000
END:STANDARD
BEGIN:DAYLIGHT
TZOFFSETFROM:+0200
TZOFFSETTO:+0300
TZNAME:EEST
DTSTART:20180325T010000
END:DAYLIGHT
BEGIN:STANDARD
TZOFFSETFROM:+0300
TZOFFSETTO:+0200
TZNAME:EET
DTSTART:20181028T010000
END:STANDARD
END:VTIMEZONE
BEGIN:VEVENT
DTSTART;TZID=Europe/Helsinki:20170319T153000
DTEND;TZID=Europe/Helsinki:20170319T183000
DTSTAMP:20260424T054940
CREATED:20170211T090719Z
LAST-MODIFIED:20170311T090658Z
UID:1668-1489937400-1489948200@www.villers-ecalles.fr
SUMMARY:Théâtre\, le dimanche 19 mars 2017 à 15h30
DESCRIPTION:Nous vous attendons nombreux pour la représentation théâtrale organisée par le comité de jumelage le dimanche 19 mars 2017 à 15h30 salle Raimbourg.
URL:https://www.villers-ecalles.fr/event/theatre-dimanche-19-mars-2017-a-15h30/
LOCATION:Salle André Raimbourg\, 2712 route de Duclair\, Villers-Ecalles\, 76360\, France
CATEGORIES:Manifestation associative
ATTACH;FMTTYPE=image/jpeg:https://www.villers-ecalles.fr/wp-content/uploads/2017/02/toc-toc.jpg
END:VEVENT
BEGIN:VEVENT
DTSTART;VALUE=DATE:20170325
DTEND;VALUE=DATE:20170327
DTSTAMP:20260424T054940
CREATED:20170227T135928Z
LAST-MODIFIED:20170228T162233Z
UID:1683-1490400000-1490572799@www.villers-ecalles.fr
SUMMARY:Exposition de l'association les enfants du Lao
DESCRIPTION:
URL:https://www.villers-ecalles.fr/event/exposition-de-lassociation-enfants-lao/
LOCATION:Salle André Raimbourg\, 2712 route de Duclair\, Villers-Ecalles\, 76360\, France
CATEGORIES:Manifestation associative
END:VEVENT
END:VCALENDAR