BEGIN:VCALENDAR
VERSION:2.0
PRODID:-//Villers-Ecalles commune de Seine-Maritime - ECPv6.15.20//NONSGML v1.0//EN
CALSCALE:GREGORIAN
METHOD:PUBLISH
X-ORIGINAL-URL:https://www.villers-ecalles.fr
X-WR-CALDESC:Évènements pour Villers-Ecalles commune de Seine-Maritime
REFRESH-INTERVAL;VALUE=DURATION:PT1H
X-Robots-Tag:noindex
X-PUBLISHED-TTL:PT1H
BEGIN:VTIMEZONE
TZID:Europe/Helsinki
BEGIN:DAYLIGHT
TZOFFSETFROM:+0200
TZOFFSETTO:+0300
TZNAME:EEST
DTSTART:20150329T010000
END:DAYLIGHT
BEGIN:STANDARD
TZOFFSETFROM:+0300
TZOFFSETTO:+0200
TZNAME:EET
DTSTART:20151025T010000
END:STANDARD
BEGIN:DAYLIGHT
TZOFFSETFROM:+0200
TZOFFSETTO:+0300
TZNAME:EEST
DTSTART:20160327T010000
END:DAYLIGHT
BEGIN:STANDARD
TZOFFSETFROM:+0300
TZOFFSETTO:+0200
TZNAME:EET
DTSTART:20161030T010000
END:STANDARD
BEGIN:DAYLIGHT
TZOFFSETFROM:+0200
TZOFFSETTO:+0300
TZNAME:EEST
DTSTART:20170326T010000
END:DAYLIGHT
BEGIN:STANDARD
TZOFFSETFROM:+0300
TZOFFSETTO:+0200
TZNAME:EET
DTSTART:20171029T010000
END:STANDARD
BEGIN:DAYLIGHT
TZOFFSETFROM:+0200
TZOFFSETTO:+0300
TZNAME:EEST
DTSTART:20180325T010000
END:DAYLIGHT
BEGIN:STANDARD
TZOFFSETFROM:+0300
TZOFFSETTO:+0200
TZNAME:EET
DTSTART:20181028T010000
END:STANDARD
END:VTIMEZONE
BEGIN:VEVENT
DTSTART;TZID=Europe/Helsinki:20161105T100000
DTEND;TZID=Europe/Helsinki:20161105T120000
DTSTAMP:20260424T145616
CREATED:20161010T194857Z
LAST-MODIFIED:20161010T194857Z
UID:1487-1478340000-1478347200@www.villers-ecalles.fr
SUMMARY:INSCRIPTIONS AU REPAS DU JUMELAGE
DESCRIPTION:Les inscriptions au repas du jumelage auront lieu le 5 novembre de 10h à 12h à la salle Raimbourg. \nLe Menu:
URL:https://www.villers-ecalles.fr/event/inscriptions-au-repas-du-jumelage/
LOCATION:Salle André Raimbourg\, 2712 route de Duclair\, Villers-Ecalles\, 76360\, France
END:VEVENT
BEGIN:VEVENT
DTSTART;TZID=Europe/Helsinki:20161106T100000
DTEND;TZID=Europe/Helsinki:20161106T180000
DTSTAMP:20260424T145616
CREATED:20161106T001147Z
LAST-MODIFIED:20161106T001513Z
UID:1515-1478426400-1478455200@www.villers-ecalles.fr
SUMMARY:Marché Artisanal et du Terroir du 6 novembre 2016
DESCRIPTION:
URL:https://www.villers-ecalles.fr/event/marche-artisanal-et-du-terroir-du-6-novembre-2016/
LOCATION:Salle André Raimbourg\, 2712 route de Duclair\, Villers-Ecalles\, 76360\, France
ATTACH;FMTTYPE=image/jpeg:https://www.villers-ecalles.fr/wp-content/uploads/2016/11/img024.jpg
ORGANIZER;CN="Mairie de Villers-Ecalles":MAILTO:courrier@villers-ecalles.fr
END:VEVENT
BEGIN:VEVENT
DTSTART;VALUE=DATE:20161119
DTEND;VALUE=DATE:20161120
DTSTAMP:20260424T145616
CREATED:20161021T130640Z
LAST-MODIFIED:20161021T130640Z
UID:1494-1479513600-1479599999@www.villers-ecalles.fr
SUMMARY:Horizon Fever
DESCRIPTION:Notez cette date. Horizon Fever est de retour le samedi 19 novembre à la salle André Raimbourg de Villers-Ecalles à partir de 20h. \nVous avez aimé la première soirée !!! Horizon organise sa deuxième soirée ayant pour thème le disco\, le funk\, les années 80.\nUn festival d’animations autour d’un bon repas. \nAu menu\, apéritif (sangria et petit punch)\, Poulet Basquaise\, dessert et café. \nAccueil avec stand photo disco. \nAnimations jeu TV buzzers quiz les années disco funk. \nNombreux lots à gagner dont des places de concerts pour le Zénith\, des tee shirts\, des cds\, des entrées gratuites au cinéma. \nLa décoration de la salle sera aux couleurs des années disco funk avec une énorme boule à facette. \nLa soirée DJ avec Fabrice Show et Samuel mix des vrais gros tubes disco funk … \nINSCRIVEZ-VOUS DES MAINTENANT\n \nsur internet à cette adresse : http://www.horizon-fm.fr/event/horizon-fever/ \nTarif de 27 € par adulte et 10 € pour les enfants de moins de 14 ans.
URL:https://www.villers-ecalles.fr/event/horizon-fever/
LOCATION:Salle André Raimbourg\, 2712 route de Duclair\, Villers-Ecalles\, 76360\, France
CATEGORIES:Manifestation associative
ATTACH;FMTTYPE=image/jpeg:https://www.villers-ecalles.fr/wp-content/uploads/2016/10/bandeau-HorizonFever.jpg
ORGANIZER;CN="Horizon":MAILTO:courrier@horizon-fm.fr
END:VEVENT
BEGIN:VEVENT
DTSTART;VALUE=DATE:20161126
DTEND;VALUE=DATE:20161127
DTSTAMP:20260424T145616
CREATED:20161010T194501Z
LAST-MODIFIED:20161010T194501Z
UID:1482-1480118400-1480204799@www.villers-ecalles.fr
SUMMARY:REPAS DU JUMELAGE
DESCRIPTION:Le prochain repas du jumelage aura lieu le 26 novembre.  Les inscriptions auront lieu le 5 novembre de 10h à 12h à la salle Raimbourg. \nLe Menu:
URL:https://www.villers-ecalles.fr/event/repas-du-jumelage/
LOCATION:Salle André Raimbourg\, 2712 route de Duclair\, Villers-Ecalles\, 76360\, France
END:VEVENT
BEGIN:VEVENT
DTSTART;TZID=Europe/Helsinki:20161127T140000
DTEND;TZID=Europe/Helsinki:20161127T163000
DTSTAMP:20260424T145616
CREATED:20161127T221549Z
LAST-MODIFIED:20161127T221620Z
UID:1547-1480255200-1480264200@www.villers-ecalles.fr
SUMMARY:Activité REVE
DESCRIPTION:REVE prépare Noël le samedi 10 décembre 2016 \npub-noel2016-page-1
URL:https://www.villers-ecalles.fr/event/activite-reve/
LOCATION:Salle André Raimbourg\, 2712 route de Duclair\, Villers-Ecalles\, 76360\, France
CATEGORIES:Manifestation associative
END:VEVENT
BEGIN:VEVENT
DTSTART;TZID=Europe/Helsinki:20161128T080000
DTEND;TZID=Europe/Helsinki:20170201T233000
DTSTAMP:20260424T145616
CREATED:20170117T084456Z
LAST-MODIFIED:20170117T084456Z
UID:1616-1480320000-1485991800@www.villers-ecalles.fr
SUMMARY:LNPN: exprimez-vous!
DESCRIPTION:La deuxième phase de concertation pour la future zone de passage de la LNPN se terminera le 1/2/2016. \nVous pouvez vous exprimer et voter sur: http://carticipe.lnpn.fr/ \nPour en savoir plus sur la façon de voter: \nhttps://www.villers-ecalles.fr/ligne-nouvelle-paris-normandie-carte-participative/ \nPour en savoir plus sur le collectif « LNPN oui mais pas à n’importe quel prix »: \nhttps://fr-fr.facebook.com/LNPNouimaispasaniportequelprix/ \n 
URL:https://www.villers-ecalles.fr/event/lnpn-exprimez-vous/
END:VEVENT
END:VCALENDAR