BEGIN:VCALENDAR
VERSION:2.0
PRODID:-//Villers-Ecalles commune de Seine-Maritime - ECPv6.15.20//NONSGML v1.0//EN
CALSCALE:GREGORIAN
METHOD:PUBLISH
X-WR-CALNAME:Villers-Ecalles commune de Seine-Maritime
X-ORIGINAL-URL:https://www.villers-ecalles.fr
X-WR-CALDESC:Évènements pour Villers-Ecalles commune de Seine-Maritime
REFRESH-INTERVAL;VALUE=DURATION:PT1H
X-Robots-Tag:noindex
X-PUBLISHED-TTL:PT1H
BEGIN:VTIMEZONE
TZID:Europe/Helsinki
BEGIN:DAYLIGHT
TZOFFSETFROM:+0200
TZOFFSETTO:+0300
TZNAME:EEST
DTSTART:20150329T010000
END:DAYLIGHT
BEGIN:STANDARD
TZOFFSETFROM:+0300
TZOFFSETTO:+0200
TZNAME:EET
DTSTART:20151025T010000
END:STANDARD
BEGIN:DAYLIGHT
TZOFFSETFROM:+0200
TZOFFSETTO:+0300
TZNAME:EEST
DTSTART:20160327T010000
END:DAYLIGHT
BEGIN:STANDARD
TZOFFSETFROM:+0300
TZOFFSETTO:+0200
TZNAME:EET
DTSTART:20161030T010000
END:STANDARD
BEGIN:DAYLIGHT
TZOFFSETFROM:+0200
TZOFFSETTO:+0300
TZNAME:EEST
DTSTART:20170326T010000
END:DAYLIGHT
BEGIN:STANDARD
TZOFFSETFROM:+0300
TZOFFSETTO:+0200
TZNAME:EET
DTSTART:20171029T010000
END:STANDARD
END:VTIMEZONE
BEGIN:VEVENT
DTSTART;VALUE=DATE:20160905
DTEND;VALUE=DATE:20160908
DTSTAMP:20260424T202242
CREATED:20160902T081721Z
LAST-MODIFIED:20160902T082107Z
UID:1443-1473033600-1473292799@www.villers-ecalles.fr
SUMMARY:Inscriptions MUSIQUES EMOTIONS
DESCRIPTION:Cours de GUITARE et de CHANT \nEnfants/ Adultes \nles Inscriptions se feront : \nle Lundi 5 septembre 2016 de 17h30 à 19h30\nle mercredi 7 septembre 2016 de 17h30 à 19h30 \nà la Mansarde de la salle Raimbourg\n(prendre l’escalier à droite du bâtiment vu de face).
URL:https://www.villers-ecalles.fr/event/inscriptions-musiques-emotions/
LOCATION:Salle André Raimbourg\, 2712 route de Duclair\, Villers-Ecalles\, 76360\, France
CATEGORIES:Manifestation associative
ORGANIZER;CN="Musique Emotions":MAILTO:musicemotions@free.fr
END:VEVENT
BEGIN:VEVENT
DTSTART;TZID=Europe/Helsinki:20160906T180000
DTEND;TZID=Europe/Helsinki:20160906T200000
DTSTAMP:20260424T202242
CREATED:20160831T122653Z
LAST-MODIFIED:20160902T073549Z
UID:1438-1473184800-1473192000@www.villers-ecalles.fr
SUMMARY:ACVE
DESCRIPTION:ACVE \nLes inscriptions pour l’année sportive 2016/2017 auront lieu le mardi 6 septembre 2016 \, à la salle raimbourg \, à partir de 18h00.\nMerci de venir avec votre dossier complet.
URL:https://www.villers-ecalles.fr/event/acve/
LOCATION:Salle André Raimbourg\, 2712 route de Duclair\, Villers-Ecalles\, 76360\, France
END:VEVENT
BEGIN:VEVENT
DTSTART;VALUE=DATE:20160924
DTEND;VALUE=DATE:20160926
DTSTAMP:20260424T202242
CREATED:20160919T180205Z
LAST-MODIFIED:20160919T180205Z
UID:1452-1474675200-1474847999@www.villers-ecalles.fr
SUMMARY:Exposition d'art
DESCRIPTION:Samedi 24 et dimanche 25 septembre\, Exposition d’art salle Raimbourg de Villers-Ecalles. \nInvité d’honneur\, Jany Aveline entouré de Fabienne Courtois\, Hervé Hamon et Sophie Vielet. \nVernissage le samedi à 11h
URL:https://www.villers-ecalles.fr/event/exposition-dart/
LOCATION:Salle André Raimbourg\, 2712 route de Duclair\, Villers-Ecalles\, 76360\, France
CATEGORIES:Manifestation communale
ATTACH;FMTTYPE=image/jpeg:https://www.villers-ecalles.fr/wp-content/uploads/2016/09/ExpoVillers-e1474308109825.jpg
END:VEVENT
END:VCALENDAR