BEGIN:VCALENDAR
VERSION:2.0
PRODID:-//Villers-Ecalles commune de Seine-Maritime - ECPv6.15.20//NONSGML v1.0//EN
CALSCALE:GREGORIAN
METHOD:PUBLISH
X-WR-CALNAME:Villers-Ecalles commune de Seine-Maritime
X-ORIGINAL-URL:https://www.villers-ecalles.fr
X-WR-CALDESC:Évènements pour Villers-Ecalles commune de Seine-Maritime
REFRESH-INTERVAL;VALUE=DURATION:PT1H
X-Robots-Tag:noindex
X-PUBLISHED-TTL:PT1H
BEGIN:VTIMEZONE
TZID:Europe/Paris
BEGIN:DAYLIGHT
TZOFFSETFROM:+0100
TZOFFSETTO:+0200
TZNAME:CEST
DTSTART:20180325T010000
END:DAYLIGHT
BEGIN:STANDARD
TZOFFSETFROM:+0200
TZOFFSETTO:+0100
TZNAME:CET
DTSTART:20181028T010000
END:STANDARD
BEGIN:DAYLIGHT
TZOFFSETFROM:+0100
TZOFFSETTO:+0200
TZNAME:CEST
DTSTART:20190331T010000
END:DAYLIGHT
BEGIN:STANDARD
TZOFFSETFROM:+0200
TZOFFSETTO:+0100
TZNAME:CET
DTSTART:20191027T010000
END:STANDARD
BEGIN:DAYLIGHT
TZOFFSETFROM:+0100
TZOFFSETTO:+0200
TZNAME:CEST
DTSTART:20200329T010000
END:DAYLIGHT
BEGIN:STANDARD
TZOFFSETFROM:+0200
TZOFFSETTO:+0100
TZNAME:CET
DTSTART:20201025T010000
END:STANDARD
END:VTIMEZONE
BEGIN:VEVENT
DTSTART;VALUE=DATE:20190708
DTEND;VALUE=DATE:20190921
DTSTAMP:20260420T134404
CREATED:20190628T091127Z
LAST-MODIFIED:20190915T072810Z
UID:2562-1562544000-1569023999@www.villers-ecalles.fr
SUMMARY:FERMETURE DE LA ROUTE DES CAMPEAUX
DESCRIPTION:La route des Campeaux sera fermée à la circulation du 8/7  au 20/9 pour travaux.
URL:https://www.villers-ecalles.fr/event/fermeture-de-la-route-des-campeaux-2/
CATEGORIES:Travaux
ORGANIZER;CN="Mairie de Villers-Ecalles":MAILTO:courrier@villers-ecalles.fr
END:VEVENT
BEGIN:VEVENT
DTSTART;VALUE=DATE:20190724
DTEND;VALUE=DATE:20190901
DTSTAMP:20260420T134404
CREATED:20190724T072715Z
LAST-MODIFIED:20190724T072715Z
UID:2596-1563926400-1567295999@www.villers-ecalles.fr
SUMMARY:SECHERESSE
DESCRIPTION:Un seuil d’alerte sécheresse a été franchi. Des restrictions d’eau sont donc en cours;
URL:https://www.villers-ecalles.fr/event/secheresse/
END:VEVENT
BEGIN:VEVENT
DTSTART;VALUE=DATE:20190816
DTEND;VALUE=DATE:20190828
DTSTAMP:20260420T134404
CREATED:20190722T064253Z
LAST-MODIFIED:20190722T064253Z
UID:2571-1565913600-1566950399@www.villers-ecalles.fr
SUMMARY:Inscriptions garderie périscolaire
DESCRIPTION:Les inscriptions pour la garderie périscolaire seront ouvertes du 16/8 au 27/8. Cliquez ici pour les renseignements.
URL:https://www.villers-ecalles.fr/event/inscriptions-garderie-periscolaire/
LOCATION:Mairie de Villers-Ecalles\, 815 rue Pasteur\, VILLERS-ECALLES\, 76360
CATEGORIES:Péri-scolaire
ORGANIZER;CN="Mairie de Villers-Ecalles":MAILTO:courrier@villers-ecalles.fr
END:VEVENT
END:VCALENDAR