BEGIN:VCALENDAR
VERSION:2.0
PRODID:-//Villers-Ecalles commune de Seine-Maritime - ECPv6.15.20//NONSGML v1.0//EN
CALSCALE:GREGORIAN
METHOD:PUBLISH
X-ORIGINAL-URL:https://www.villers-ecalles.fr
X-WR-CALDESC:Évènements pour Villers-Ecalles commune de Seine-Maritime
REFRESH-INTERVAL;VALUE=DURATION:PT1H
X-Robots-Tag:noindex
X-PUBLISHED-TTL:PT1H
BEGIN:VTIMEZONE
TZID:Europe/Paris
BEGIN:DAYLIGHT
TZOFFSETFROM:+0100
TZOFFSETTO:+0200
TZNAME:CEST
DTSTART:20180325T010000
END:DAYLIGHT
BEGIN:STANDARD
TZOFFSETFROM:+0200
TZOFFSETTO:+0100
TZNAME:CET
DTSTART:20181028T010000
END:STANDARD
BEGIN:DAYLIGHT
TZOFFSETFROM:+0100
TZOFFSETTO:+0200
TZNAME:CEST
DTSTART:20190331T010000
END:DAYLIGHT
BEGIN:STANDARD
TZOFFSETFROM:+0200
TZOFFSETTO:+0100
TZNAME:CET
DTSTART:20191027T010000
END:STANDARD
BEGIN:DAYLIGHT
TZOFFSETFROM:+0100
TZOFFSETTO:+0200
TZNAME:CEST
DTSTART:20200329T010000
END:DAYLIGHT
BEGIN:STANDARD
TZOFFSETFROM:+0200
TZOFFSETTO:+0100
TZNAME:CET
DTSTART:20201025T010000
END:STANDARD
END:VTIMEZONE
BEGIN:VEVENT
DTSTART;VALUE=DATE:20190502
DTEND;VALUE=DATE:20190701
DTSTAMP:20260420T195009
CREATED:20190430T221803Z
LAST-MODIFIED:20190517T152214Z
UID:2476-1556755200-1561939199@www.villers-ecalles.fr
SUMMARY:opération Caux'cottes
DESCRIPTION:La communauté de communes Caux‐Austreberthe propose\nl’opération CAUX’COTTES et offre 2 poules et 1 poulailler\naux familles éco‐responsables qui souhaitent\nréduire leurs déchets.\nDépôt des candidatures du 3 mai au 30 juin. \nPour en savoir plus: https://www.villers-ecalles.fr/operations-cauxcottes-par-la-comcom/ \nou http://www.cccauxaustreberthe.fr/environnement/operation-caux-cottes-107043 
URL:https://www.villers-ecalles.fr/event/operation-cauxcottes/
LOCATION:Mairie de Villers-Ecalles\, 815 rue Pasteur\, VILLERS-ECALLES\, 76360
END:VEVENT
BEGIN:VEVENT
DTSTART;TZID=Europe/Paris:20190502T183000
DTEND;TZID=Europe/Paris:20190502T183000
DTSTAMP:20260420T195009
CREATED:20190424T101111Z
LAST-MODIFIED:20190424T101111Z
UID:2463-1556821800-1556821800@www.villers-ecalles.fr
SUMMARY:commission de contrôle des listes électorales
DESCRIPTION:LA COMMISSION DE CONTRÔLE\nDES LISTES ÉLECTORALES \nse réunira le JEUDI 2 MAI 2019 À 18h30 EN MAIRIE \nORDRE DU JOUR : \n– Information sur le fonctionnement de la commission\n– Examen des dossiers d’inscriptions sur les listes électorales \nMembres siégeant à la commission\, en présence de Monsieur Le Maire\, Jean-Christophe EMO :\nMme Chéron Virginie\, M. Vielle Raphaël\, Mme Cadiou Liliane\, Mme Taudon-Hars Pascale\, Mme Vasseur Ludivine
URL:https://www.villers-ecalles.fr/event/commission-de-controle-des-listes-electorales/
END:VEVENT
END:VCALENDAR