BEGIN:VCALENDAR
VERSION:2.0
PRODID:-//Villers-Ecalles commune de Seine-Maritime - ECPv6.15.20//NONSGML v1.0//EN
CALSCALE:GREGORIAN
METHOD:PUBLISH
X-ORIGINAL-URL:https://www.villers-ecalles.fr
X-WR-CALDESC:Évènements pour Villers-Ecalles commune de Seine-Maritime
REFRESH-INTERVAL;VALUE=DURATION:PT1H
X-Robots-Tag:noindex
X-PUBLISHED-TTL:PT1H
BEGIN:VTIMEZONE
TZID:Europe/Paris
BEGIN:DAYLIGHT
TZOFFSETFROM:+0100
TZOFFSETTO:+0200
TZNAME:CEST
DTSTART:20170326T010000
END:DAYLIGHT
BEGIN:STANDARD
TZOFFSETFROM:+0200
TZOFFSETTO:+0100
TZNAME:CET
DTSTART:20171029T010000
END:STANDARD
BEGIN:DAYLIGHT
TZOFFSETFROM:+0100
TZOFFSETTO:+0200
TZNAME:CEST
DTSTART:20180325T010000
END:DAYLIGHT
BEGIN:STANDARD
TZOFFSETFROM:+0200
TZOFFSETTO:+0100
TZNAME:CET
DTSTART:20181028T010000
END:STANDARD
BEGIN:DAYLIGHT
TZOFFSETFROM:+0100
TZOFFSETTO:+0200
TZNAME:CEST
DTSTART:20190331T010000
END:DAYLIGHT
BEGIN:STANDARD
TZOFFSETFROM:+0200
TZOFFSETTO:+0100
TZNAME:CET
DTSTART:20191027T010000
END:STANDARD
END:VTIMEZONE
BEGIN:VEVENT
DTSTART;TZID=Europe/Paris:20181216T083000
DTEND;TZID=Europe/Paris:20181216T173000
DTSTAMP:20260421T034000
CREATED:20181128T134625Z
LAST-MODIFIED:20181128T134625Z
UID:2281-1544949000-1544981400@www.villers-ecalles.fr
SUMMARY:Foire à tout de Noël
DESCRIPTION:Horizon organise le dimanche 16 décembre une foire à tout dans la salle André Raimbourg de Villers-Ecalles. \n\nTarif visiteur gratuit. \nVisite exceptionnelle du père Noël . Distribution de friandises aux enfants sages. \nBuvette sur place\, crêpes\, sandwich\, boissons… \nExposant\, vous pouvez effectuer votre inscription en remplissant le formulaire ci-dessous : \nTarifs : Table 1m20 à 3€ – Table 1m80 à 5€ – Portant à vêtements 1\, 50€ fourni par l’exposant. \nVous pouvez télécharger le dossier complet au format pdf et nous le retourner complété via un formulaire disponible sur le site internet de la radio en cliquant ici\,\nou par courrier à « Horizon – BP 67 – 76360 BARENTIN » \nCliquez-ici pour télécharger le dossier de la foire à tout \n 
URL:https://www.villers-ecalles.fr/event/foire-a-tout-de-noel/
LOCATION:Salle André Raimbourg\, 2712 route de Duclair\, Villers-Ecalles\, 76360\, France
CATEGORIES:Manifestation associative
ATTACH;FMTTYPE=image/jpeg:https://www.villers-ecalles.fr/wp-content/uploads/2015/06/foireatout.jpg
ORGANIZER;CN="Horizon":MAILTO:courrier@horizon-fm.fr
END:VEVENT
END:VCALENDAR