BEGIN:VCALENDAR
VERSION:2.0
PRODID:-//Villers-Ecalles commune de Seine-Maritime - ECPv6.15.20//NONSGML v1.0//EN
CALSCALE:GREGORIAN
METHOD:PUBLISH
X-ORIGINAL-URL:https://www.villers-ecalles.fr
X-WR-CALDESC:Évènements pour Villers-Ecalles commune de Seine-Maritime
REFRESH-INTERVAL;VALUE=DURATION:PT1H
X-Robots-Tag:noindex
X-PUBLISHED-TTL:PT1H
BEGIN:VTIMEZONE
TZID:Europe/Paris
BEGIN:DAYLIGHT
TZOFFSETFROM:+0100
TZOFFSETTO:+0200
TZNAME:CEST
DTSTART:20170326T010000
END:DAYLIGHT
BEGIN:STANDARD
TZOFFSETFROM:+0200
TZOFFSETTO:+0100
TZNAME:CET
DTSTART:20171029T010000
END:STANDARD
BEGIN:DAYLIGHT
TZOFFSETFROM:+0100
TZOFFSETTO:+0200
TZNAME:CEST
DTSTART:20180325T010000
END:DAYLIGHT
BEGIN:STANDARD
TZOFFSETFROM:+0200
TZOFFSETTO:+0100
TZNAME:CET
DTSTART:20181028T010000
END:STANDARD
BEGIN:DAYLIGHT
TZOFFSETFROM:+0100
TZOFFSETTO:+0200
TZNAME:CEST
DTSTART:20190331T010000
END:DAYLIGHT
BEGIN:STANDARD
TZOFFSETFROM:+0200
TZOFFSETTO:+0100
TZNAME:CET
DTSTART:20191027T010000
END:STANDARD
END:VTIMEZONE
BEGIN:VEVENT
DTSTART;TZID=Europe/Paris:20181028T090000
DTEND;TZID=Europe/Paris:20181028T170000
DTSTAMP:20260421T070926
CREATED:20181026T084239Z
LAST-MODIFIED:20181026T084239Z
UID:2235-1540717200-1540746000@www.villers-ecalles.fr
SUMMARY:Foire aux jouets
DESCRIPTION:Dimanche 28 octobre à la salle André Raimbourg de Villers-Ecalles\, \nFoire aux jouets\, aux livres\, et vêtements de bébés et d’enfants.
URL:https://www.villers-ecalles.fr/event/foire-aux-jouets/
LOCATION:Salle André Raimbourg\, 2712 route de Duclair\, Villers-Ecalles\, 76360\, France
CATEGORIES:Manifestation communale
ATTACH;FMTTYPE=image/jpeg:https://www.villers-ecalles.fr/wp-content/uploads/2015/11/bourse-aux-jouets.jpg
END:VEVENT
END:VCALENDAR