BEGIN:VCALENDAR
VERSION:2.0
PRODID:-//Villers-Ecalles commune de Seine-Maritime - ECPv6.15.20//NONSGML v1.0//EN
CALSCALE:GREGORIAN
METHOD:PUBLISH
X-WR-CALNAME:Villers-Ecalles commune de Seine-Maritime
X-ORIGINAL-URL:https://www.villers-ecalles.fr
X-WR-CALDESC:Évènements pour Villers-Ecalles commune de Seine-Maritime
REFRESH-INTERVAL;VALUE=DURATION:PT1H
X-Robots-Tag:noindex
X-PUBLISHED-TTL:PT1H
BEGIN:VTIMEZONE
TZID:Europe/Paris
BEGIN:DAYLIGHT
TZOFFSETFROM:+0100
TZOFFSETTO:+0200
TZNAME:CEST
DTSTART:20170326T010000
END:DAYLIGHT
BEGIN:STANDARD
TZOFFSETFROM:+0200
TZOFFSETTO:+0100
TZNAME:CET
DTSTART:20171029T010000
END:STANDARD
BEGIN:DAYLIGHT
TZOFFSETFROM:+0100
TZOFFSETTO:+0200
TZNAME:CEST
DTSTART:20180325T010000
END:DAYLIGHT
BEGIN:STANDARD
TZOFFSETFROM:+0200
TZOFFSETTO:+0100
TZNAME:CET
DTSTART:20181028T010000
END:STANDARD
BEGIN:DAYLIGHT
TZOFFSETFROM:+0100
TZOFFSETTO:+0200
TZNAME:CEST
DTSTART:20190331T010000
END:DAYLIGHT
BEGIN:STANDARD
TZOFFSETFROM:+0200
TZOFFSETTO:+0100
TZNAME:CET
DTSTART:20191027T010000
END:STANDARD
END:VTIMEZONE
BEGIN:VEVENT
DTSTART;VALUE=DATE:20181027
DTEND;VALUE=DATE:20181028
DTSTAMP:20260421T070840
CREATED:20180930T145326Z
LAST-MODIFIED:20180930T145326Z
UID:2221-1540598400-1540684799@www.villers-ecalles.fr
SUMMARY:Venez soutenir l'opération "Octobre Rose"
DESCRIPTION:Samedi 27 octobre\, venez soutenir l’opération « Octobre Rose » \nNous sommes toutes et tous concernés à un moment ou un autre durant notre vie de près ou de loin par le cancer du sein. \n9h45 Rendez-vous avec une touche de rose dans cour de la cantine sous le préau à côté de la salle Raimbourg à Villers-Ecalles pour une marche ou un running de 3 ou 5 kms \n11h00 Rafraichissement sous le préau \nVers 11h15\, découvrez la sophrologie avec Nadia Barr dans la salle Raimbourg \nBulletin d’inscription à déposer en mairie avant le jeudi 25 octobre en cliquant ici. \nInscriptions possibles le matin sous le préau à partir de 9h15.
URL:https://www.villers-ecalles.fr/event/venez-soutenir-loperation-octobre-rose/
LOCATION:Salle André Raimbourg\, 2712 route de Duclair\, Villers-Ecalles\, 76360\, France
CATEGORIES:Manifestation communale
ATTACH;FMTTYPE=image/jpeg:https://www.villers-ecalles.fr/wp-content/uploads/2015/10/OctobreRose2.jpg
END:VEVENT
END:VCALENDAR