BEGIN:VCALENDAR
VERSION:2.0
PRODID:-//Villers-Ecalles commune de Seine-Maritime - ECPv6.15.20//NONSGML v1.0//EN
CALSCALE:GREGORIAN
METHOD:PUBLISH
X-ORIGINAL-URL:https://www.villers-ecalles.fr
X-WR-CALDESC:Évènements pour Villers-Ecalles commune de Seine-Maritime
REFRESH-INTERVAL;VALUE=DURATION:PT1H
X-Robots-Tag:noindex
X-PUBLISHED-TTL:PT1H
BEGIN:VTIMEZONE
TZID:Europe/Paris
BEGIN:DAYLIGHT
TZOFFSETFROM:+0100
TZOFFSETTO:+0200
TZNAME:CEST
DTSTART:20170326T010000
END:DAYLIGHT
BEGIN:STANDARD
TZOFFSETFROM:+0200
TZOFFSETTO:+0100
TZNAME:CET
DTSTART:20171029T010000
END:STANDARD
BEGIN:DAYLIGHT
TZOFFSETFROM:+0100
TZOFFSETTO:+0200
TZNAME:CEST
DTSTART:20180325T010000
END:DAYLIGHT
BEGIN:STANDARD
TZOFFSETFROM:+0200
TZOFFSETTO:+0100
TZNAME:CET
DTSTART:20181028T010000
END:STANDARD
BEGIN:DAYLIGHT
TZOFFSETFROM:+0100
TZOFFSETTO:+0200
TZNAME:CEST
DTSTART:20190331T010000
END:DAYLIGHT
BEGIN:STANDARD
TZOFFSETFROM:+0200
TZOFFSETTO:+0100
TZNAME:CET
DTSTART:20191027T010000
END:STANDARD
END:VTIMEZONE
BEGIN:VEVENT
DTSTART;VALUE=DATE:20181006
DTEND;VALUE=DATE:20181008
DTSTAMP:20260421T070930
CREATED:20180930T143800Z
LAST-MODIFIED:20181002T135125Z
UID:2219-1538784000-1538956799@www.villers-ecalles.fr
SUMMARY:Exposition de peinture
DESCRIPTION:La commission animation vous propose une exposition de peinture Salle Raimbourg\, place Jean Moulin\, Samedi 6 octobre de 10h à 18h30. Vernissage à 11h. \nDimanche 7 octobre de 10h à 12h30 et de 14h30 à 17h. \nAnimations pour les enfants le samedi et le dimanche de 15h à 17h. \nAvec les artistes :\nPhilippe Siméon\nNicole Berthaud\nDenise Biard\nJostte Vatinel\nFrançoise Guguen\nSophie Vielet\nOrnella Vergne\nAnnick Viandier\nMatthias Canu
URL:https://www.villers-ecalles.fr/event/exposition-de-peinture/
LOCATION:Salle André Raimbourg\, 2712 route de Duclair\, Villers-Ecalles\, 76360\, France
CATEGORIES:Manifestation communale
ATTACH;FMTTYPE=image/jpeg:https://www.villers-ecalles.fr/wp-content/uploads/2018/09/WEArtistique.jpg
END:VEVENT
END:VCALENDAR