BEGIN:VCALENDAR
VERSION:2.0
PRODID:-//Villers-Ecalles commune de Seine-Maritime - ECPv6.15.20//NONSGML v1.0//EN
CALSCALE:GREGORIAN
METHOD:PUBLISH
X-WR-CALNAME:Villers-Ecalles commune de Seine-Maritime
X-ORIGINAL-URL:https://www.villers-ecalles.fr
X-WR-CALDESC:Évènements pour Villers-Ecalles commune de Seine-Maritime
REFRESH-INTERVAL;VALUE=DURATION:PT1H
X-Robots-Tag:noindex
X-PUBLISHED-TTL:PT1H
BEGIN:VTIMEZONE
TZID:Europe/Helsinki
BEGIN:DAYLIGHT
TZOFFSETFROM:+0200
TZOFFSETTO:+0300
TZNAME:EEST
DTSTART:20170326T010000
END:DAYLIGHT
BEGIN:STANDARD
TZOFFSETFROM:+0300
TZOFFSETTO:+0200
TZNAME:EET
DTSTART:20171029T010000
END:STANDARD
BEGIN:DAYLIGHT
TZOFFSETFROM:+0200
TZOFFSETTO:+0300
TZNAME:EEST
DTSTART:20180325T010000
END:DAYLIGHT
BEGIN:STANDARD
TZOFFSETFROM:+0300
TZOFFSETTO:+0200
TZNAME:EET
DTSTART:20181028T010000
END:STANDARD
BEGIN:DAYLIGHT
TZOFFSETFROM:+0200
TZOFFSETTO:+0300
TZNAME:EEST
DTSTART:20190331T010000
END:DAYLIGHT
BEGIN:STANDARD
TZOFFSETFROM:+0300
TZOFFSETTO:+0200
TZNAME:EET
DTSTART:20191027T010000
END:STANDARD
END:VTIMEZONE
BEGIN:VEVENT
DTSTART;TZID=Europe/Helsinki:20180610T080000
DTEND;TZID=Europe/Helsinki:20180610T170000
DTSTAMP:20260421T132035
CREATED:20180601T150901Z
LAST-MODIFIED:20180604T101429Z
UID:2169-1528617600-1528650000@www.villers-ecalles.fr
SUMMARY:Foire à tout organisé par le FCVE le dimanche 10 juin au stade
DESCRIPTION:Le dimanche 10 juin\, le football club de Villers-Ecalles organise sa foire à tout. \nRendez-vous au stade à partir de 8h \nRestauration sur place
URL:https://www.villers-ecalles.fr/event/foire-a-tout-organise-par-le-fcve-le-dimanche-10-juin-au-stade/
LOCATION:Stade Villers-Ecalles\, 250 rue Gadeau de Kerville\, Villers-Ecalles\, 76360\, France
CATEGORIES:Manifestation associative
ATTACH;FMTTYPE=image/jpeg:https://www.villers-ecalles.fr/wp-content/uploads/2016/06/foireatoutVillers.jpg
END:VEVENT
END:VCALENDAR