BEGIN:VCALENDAR
VERSION:2.0
PRODID:-//Villers-Ecalles commune de Seine-Maritime - ECPv6.15.20//NONSGML v1.0//EN
CALSCALE:GREGORIAN
METHOD:PUBLISH
X-WR-CALNAME:Villers-Ecalles commune de Seine-Maritime
X-ORIGINAL-URL:https://www.villers-ecalles.fr
X-WR-CALDESC:Évènements pour Villers-Ecalles commune de Seine-Maritime
REFRESH-INTERVAL;VALUE=DURATION:PT1H
X-Robots-Tag:noindex
X-PUBLISHED-TTL:PT1H
BEGIN:VTIMEZONE
TZID:Europe/Helsinki
BEGIN:DAYLIGHT
TZOFFSETFROM:+0200
TZOFFSETTO:+0300
TZNAME:EEST
DTSTART:20160327T010000
END:DAYLIGHT
BEGIN:STANDARD
TZOFFSETFROM:+0300
TZOFFSETTO:+0200
TZNAME:EET
DTSTART:20161030T010000
END:STANDARD
BEGIN:DAYLIGHT
TZOFFSETFROM:+0200
TZOFFSETTO:+0300
TZNAME:EEST
DTSTART:20170326T010000
END:DAYLIGHT
BEGIN:STANDARD
TZOFFSETFROM:+0300
TZOFFSETTO:+0200
TZNAME:EET
DTSTART:20171029T010000
END:STANDARD
BEGIN:DAYLIGHT
TZOFFSETFROM:+0200
TZOFFSETTO:+0300
TZNAME:EEST
DTSTART:20180325T010000
END:DAYLIGHT
BEGIN:STANDARD
TZOFFSETFROM:+0300
TZOFFSETTO:+0200
TZNAME:EET
DTSTART:20181028T010000
END:STANDARD
END:VTIMEZONE
BEGIN:VEVENT
DTSTART;TZID=Europe/Helsinki:20171217T080000
DTEND;TZID=Europe/Helsinki:20171217T170000
DTSTAMP:20260423T134931
CREATED:20171122T103251Z
LAST-MODIFIED:20171123T220901Z
UID:1972-1513497600-1513530000@www.villers-ecalles.fr
SUMMARY:Foire à tout de Noël
DESCRIPTION:Votre radio Horizon organise le dimanche 17 décembre une foire à tout dans la salle André Raimbourg de Villers-Ecalles. \n\nTarif visiteur gratuit. \nVisite exceptionnelle du père Noël . Distribution de friandises aux enfants sages. \nBuvette sur place\, crêpes\, sandwich\, boissons… \nLe dossier d’inscription est disponible en téléchargement en cliquant ici. \nLes inscriptions se feront le vendredi 8 décembre de 10h à 17h au studio de Pavilly (situé à coté de la mairie) \nVous pouvez effectuer votre inscription en ligne en remplissant le formulaire depuis le site internet de la radio : https://www.horizon-fm.fr/event/foire-a-tout-17-12/
URL:https://www.villers-ecalles.fr/event/foire-a-de-noel/
LOCATION:Salle André Raimbourg\, 2712 route de Duclair\, Villers-Ecalles\, 76360\, France
CATEGORIES:Manifestation associative
ATTACH;FMTTYPE=image/jpeg:https://www.villers-ecalles.fr/wp-content/uploads/2015/06/foireatout.jpg
END:VEVENT
END:VCALENDAR