BEGIN:VCALENDAR
VERSION:2.0
PRODID:-//Villers-Ecalles commune de Seine-Maritime - ECPv6.15.20//NONSGML v1.0//EN
CALSCALE:GREGORIAN
METHOD:PUBLISH
X-ORIGINAL-URL:https://www.villers-ecalles.fr
X-WR-CALDESC:Évènements pour Villers-Ecalles commune de Seine-Maritime
REFRESH-INTERVAL;VALUE=DURATION:PT1H
X-Robots-Tag:noindex
X-PUBLISHED-TTL:PT1H
BEGIN:VTIMEZONE
TZID:Europe/Helsinki
BEGIN:DAYLIGHT
TZOFFSETFROM:+0200
TZOFFSETTO:+0300
TZNAME:EEST
DTSTART:20160327T010000
END:DAYLIGHT
BEGIN:STANDARD
TZOFFSETFROM:+0300
TZOFFSETTO:+0200
TZNAME:EET
DTSTART:20161030T010000
END:STANDARD
BEGIN:DAYLIGHT
TZOFFSETFROM:+0200
TZOFFSETTO:+0300
TZNAME:EEST
DTSTART:20170326T010000
END:DAYLIGHT
BEGIN:STANDARD
TZOFFSETFROM:+0300
TZOFFSETTO:+0200
TZNAME:EET
DTSTART:20171029T010000
END:STANDARD
BEGIN:DAYLIGHT
TZOFFSETFROM:+0200
TZOFFSETTO:+0300
TZNAME:EEST
DTSTART:20180325T010000
END:DAYLIGHT
BEGIN:STANDARD
TZOFFSETFROM:+0300
TZOFFSETTO:+0200
TZNAME:EET
DTSTART:20181028T010000
END:STANDARD
END:VTIMEZONE
BEGIN:VEVENT
DTSTART;TZID=Europe/Helsinki:20170610T134500
DTEND;TZID=Europe/Helsinki:20170610T181500
DTSTAMP:20260424T031014
CREATED:20170523T071112Z
LAST-MODIFIED:20170523T071112Z
UID:1814-1497102300-1497118500@www.villers-ecalles.fr
SUMMARY:Sortie Accrobranches samedi 10 juin
DESCRIPTION:Une sortie accrobranches est organisée par la commission Animation\, il reste encore des places pour les enfants de 10 à 16 ans\, tarif 12 euros\, départ 13h45 en car de l’arrêt de bus de l’école\, retour prévu à 18h15 au même endroit. 2H30 de dépaysement et sensations légères ou fortes suivi d’un goûter tous ensemble à l’Espace Aventure de St Martin de Boscherville. Vous pouvez me contacter au 06 03 52 28 40 ou par mail à v.granlin@villers-ecalles.fr. Valérie Granlin
URL:https://www.villers-ecalles.fr/event/sortie-accrobranches-samedi-10-juin/
LOCATION:Ecole Prevost-Freinet\, 2529 Route de Duclair\, Villers-Ecalles\, 76360\, France
CATEGORIES:Manifestation communale
ATTACH;FMTTYPE=image/jpeg:https://www.villers-ecalles.fr/wp-content/uploads/2017/05/Accrobranche2.jpg
ORGANIZER;CN="Mairie de Villers-Ecalles":MAILTO:courrier@villers-ecalles.fr
END:VEVENT
END:VCALENDAR