BEGIN:VCALENDAR
VERSION:2.0
PRODID:-//Villers-Ecalles commune de Seine-Maritime - ECPv6.15.20//NONSGML v1.0//EN
CALSCALE:GREGORIAN
METHOD:PUBLISH
X-ORIGINAL-URL:https://www.villers-ecalles.fr
X-WR-CALDESC:Évènements pour Villers-Ecalles commune de Seine-Maritime
REFRESH-INTERVAL;VALUE=DURATION:PT1H
X-Robots-Tag:noindex
X-PUBLISHED-TTL:PT1H
BEGIN:VTIMEZONE
TZID:Europe/Helsinki
BEGIN:DAYLIGHT
TZOFFSETFROM:+0200
TZOFFSETTO:+0300
TZNAME:EEST
DTSTART:20160327T010000
END:DAYLIGHT
BEGIN:STANDARD
TZOFFSETFROM:+0300
TZOFFSETTO:+0200
TZNAME:EET
DTSTART:20161030T010000
END:STANDARD
BEGIN:DAYLIGHT
TZOFFSETFROM:+0200
TZOFFSETTO:+0300
TZNAME:EEST
DTSTART:20170326T010000
END:DAYLIGHT
BEGIN:STANDARD
TZOFFSETFROM:+0300
TZOFFSETTO:+0200
TZNAME:EET
DTSTART:20171029T010000
END:STANDARD
BEGIN:DAYLIGHT
TZOFFSETFROM:+0200
TZOFFSETTO:+0300
TZNAME:EEST
DTSTART:20180325T010000
END:DAYLIGHT
BEGIN:STANDARD
TZOFFSETFROM:+0300
TZOFFSETTO:+0200
TZNAME:EET
DTSTART:20181028T010000
END:STANDARD
END:VTIMEZONE
BEGIN:VEVENT
DTSTART;TZID=Europe/Helsinki:20170604T000000
DTEND;TZID=Europe/Helsinki:20170609T000000
DTSTAMP:20260424T031004
CREATED:20170511T191627Z
LAST-MODIFIED:20170511T192224Z
UID:1796-1496534400-1496966400@www.villers-ecalles.fr
SUMMARY:FOIRE A TOUT du FCVE: inscriptions
DESCRIPTION:Les inscriptions à la foire à tout se dérouleront au stade municipal\nLe dimanche 4 juin de 10h à Midi\nLe mercredi 7 juin de 15h à 19h\nLe vendredi 9 juin de 17h à 19h \nLes modalités ici!
URL:https://www.villers-ecalles.fr/event/foire-a-fcve-inscriptions/
LOCATION:Stade Villers-Ecalles\, 250 rue Gadeau de Kerville\, Villers-Ecalles\, 76360\, France
END:VEVENT
END:VCALENDAR