BEGIN:VCALENDAR
VERSION:2.0
PRODID:-//Villers-Ecalles commune de Seine-Maritime - ECPv6.15.20//NONSGML v1.0//EN
CALSCALE:GREGORIAN
METHOD:PUBLISH
X-WR-CALNAME:Villers-Ecalles commune de Seine-Maritime
X-ORIGINAL-URL:https://www.villers-ecalles.fr
X-WR-CALDESC:Évènements pour Villers-Ecalles commune de Seine-Maritime
REFRESH-INTERVAL;VALUE=DURATION:PT1H
X-Robots-Tag:noindex
X-PUBLISHED-TTL:PT1H
BEGIN:VTIMEZONE
TZID:Europe/Helsinki
BEGIN:DAYLIGHT
TZOFFSETFROM:+0200
TZOFFSETTO:+0300
TZNAME:EEST
DTSTART:20160327T010000
END:DAYLIGHT
BEGIN:STANDARD
TZOFFSETFROM:+0300
TZOFFSETTO:+0200
TZNAME:EET
DTSTART:20161030T010000
END:STANDARD
BEGIN:DAYLIGHT
TZOFFSETFROM:+0200
TZOFFSETTO:+0300
TZNAME:EEST
DTSTART:20170326T010000
END:DAYLIGHT
BEGIN:STANDARD
TZOFFSETFROM:+0300
TZOFFSETTO:+0200
TZNAME:EET
DTSTART:20171029T010000
END:STANDARD
BEGIN:DAYLIGHT
TZOFFSETFROM:+0200
TZOFFSETTO:+0300
TZNAME:EEST
DTSTART:20180325T010000
END:DAYLIGHT
BEGIN:STANDARD
TZOFFSETFROM:+0300
TZOFFSETTO:+0200
TZNAME:EET
DTSTART:20181028T010000
END:STANDARD
END:VTIMEZONE
BEGIN:VEVENT
DTSTART;VALUE=DATE:20170401
DTEND;VALUE=DATE:20170402
DTSTAMP:20260424T054935
CREATED:20170301T152554Z
LAST-MODIFIED:20170301T152554Z
UID:1703-1491004800-1491091199@www.villers-ecalles.fr
SUMMARY:CAUX-AUTREBERTHE TRAIL
DESCRIPTION:L’Athlétic Club de Barentin organise son 6ème Caux-Austreberthe Trail. Le trail du samedi matin se déroulera sur la commune de Villers-Ecalles. \nPlus de renseignements sur www.acbarentin.fr
URL:https://www.villers-ecalles.fr/event/caux-autreberthe-trail/
LOCATION:Stade Villers-Ecalles\, 250 rue Gadeau de Kerville\, Villers-Ecalles\, 76360\, France
END:VEVENT
BEGIN:VEVENT
DTSTART;TZID=Europe/Helsinki:20170401T140000
DTEND;TZID=Europe/Helsinki:20170401T163000
DTSTAMP:20260424T054935
CREATED:20170320T215022Z
LAST-MODIFIED:20170320T215700Z
UID:1741-1491055200-1491064200@www.villers-ecalles.fr
SUMMARY:REVE fête Pâques
DESCRIPTION:L’association REVE vous attend nombreux le samedi 1er avril pour venir fêter Pâques. \nCliquer sur le lien suivant \npub paques 2017
URL:https://www.villers-ecalles.fr/event/reve-fete-paques/
LOCATION:Salle André Raimbourg\, 2712 route de Duclair\, Villers-Ecalles\, 76360\, France
END:VEVENT
END:VCALENDAR