BEGIN:VCALENDAR
VERSION:2.0
PRODID:-//Villers-Ecalles commune de Seine-Maritime - ECPv6.15.20//NONSGML v1.0//EN
CALSCALE:GREGORIAN
METHOD:PUBLISH
X-WR-CALNAME:Villers-Ecalles commune de Seine-Maritime
X-ORIGINAL-URL:https://www.villers-ecalles.fr
X-WR-CALDESC:Évènements pour Villers-Ecalles commune de Seine-Maritime
REFRESH-INTERVAL;VALUE=DURATION:PT1H
X-Robots-Tag:noindex
X-PUBLISHED-TTL:PT1H
BEGIN:VTIMEZONE
TZID:Europe/Paris
BEGIN:DAYLIGHT
TZOFFSETFROM:+0100
TZOFFSETTO:+0200
TZNAME:CEST
DTSTART:20180325T010000
END:DAYLIGHT
BEGIN:STANDARD
TZOFFSETFROM:+0200
TZOFFSETTO:+0100
TZNAME:CET
DTSTART:20181028T010000
END:STANDARD
BEGIN:DAYLIGHT
TZOFFSETFROM:+0100
TZOFFSETTO:+0200
TZNAME:CEST
DTSTART:20190331T010000
END:DAYLIGHT
BEGIN:STANDARD
TZOFFSETFROM:+0200
TZOFFSETTO:+0100
TZNAME:CET
DTSTART:20191027T010000
END:STANDARD
BEGIN:DAYLIGHT
TZOFFSETFROM:+0100
TZOFFSETTO:+0200
TZNAME:CEST
DTSTART:20200329T010000
END:DAYLIGHT
BEGIN:STANDARD
TZOFFSETFROM:+0200
TZOFFSETTO:+0100
TZNAME:CET
DTSTART:20201025T010000
END:STANDARD
END:VTIMEZONE
BEGIN:VEVENT
DTSTART;TZID=Europe/Paris:20191002T080000
DTEND;TZID=Europe/Paris:20191012T170000
DTSTAMP:20260420T112243
CREATED:20191002T193709Z
LAST-MODIFIED:20191005T155725Z
UID:2675-1570003200-1570899600@www.villers-ecalles.fr
SUMMARY:Octobre Rose Marche le samedi 12 octobre à 10h salle Pasteur
DESCRIPTION:Le samedi 12 octobre\, nous vous attendons nombreux pour soutenir  » Octobre Rose « .  Vous pourrez encore vous inscrire sur place à partir de 9h30. A 10h\, départ pour la marche avec l’association  » Les Pas Pressés « . A 11h\, goûter et rafraîchissement vous seront offerts salle Pasteur et si vous le souhaitez nous vous convions à la détente\, la relaxation avec une séance de sophrologie à 11h30 dans la salle Pasteur. \n  \nArticle octobre rose 2019
URL:https://www.villers-ecalles.fr/event/octobre-rose-marche-le-samedi-12-octobre-a-10h-salle-pasteur/
CATEGORIES:Manifestation communale
ATTACH;FMTTYPE=image/jpeg:https://www.villers-ecalles.fr/wp-content/uploads/2015/09/arbre-aoctobre-rose.jpg
END:VEVENT
END:VCALENDAR